Package: ontoProcData Version: 0.99.9904 Command: /home/biocbuild/bbs-3.22-bioc/R/bin/R CMD check --install=check:ontoProcData.install-out.txt --library=/home/biocbuild/bbs-3.22-bioc/R/site-library --timings ontoProcData_0.99.9904.tar.gz StartedAt: 2025-10-15 06:00:10 -0400 (Wed, 15 Oct 2025) EndedAt: 2025-10-15 06:00:25 -0400 (Wed, 15 Oct 2025) EllapsedTime: 14.8 seconds RetCode: 1 Status: ERROR CheckDir: ontoProcData.Rcheck Warnings: NA