Package: hpAnnot Version: 1.1.1 Command: /home/biocbuild/bbs-3.22-bioc/R/bin/R CMD check --install=check:hpAnnot.install-out.txt --library=/home/biocbuild/bbs-3.22-bioc/R/site-library --timings hpAnnot_1.1.1.tar.gz StartedAt: 2025-10-15 05:59:37 -0400 (Wed, 15 Oct 2025) EndedAt: 2025-10-15 06:00:25 -0400 (Wed, 15 Oct 2025) EllapsedTime: 48.0 seconds RetCode: 0 Status: OK CheckDir: hpAnnot.Rcheck Warnings: 0