Package: excluderanges Version: 0.99.10 Command: /home/biocbuild/bbs-3.22-bioc/R/bin/R CMD check --install=check:excluderanges.install-out.txt --library=/home/biocbuild/bbs-3.22-bioc/R/site-library --timings excluderanges_0.99.10.tar.gz StartedAt: 2025-10-22 06:00:05 -0400 (Wed, 22 Oct 2025) EndedAt: 2025-10-22 06:02:04 -0400 (Wed, 22 Oct 2025) EllapsedTime: 119.0 seconds RetCode: 0 Status: OK CheckDir: excluderanges.Rcheck Warnings: 0