Package: SomaScan.db Version: 0.99.10 Command: /home/biocbuild/bbs-3.22-bioc/R/bin/R CMD check --install=check:SomaScan.db.install-out.txt --library=/home/biocbuild/bbs-3.22-bioc/R/site-library --timings SomaScan.db_0.99.10.tar.gz StartedAt: 2025-09-24 06:00:20 -0400 (Wed, 24 Sep 2025) EndedAt: 2025-09-24 06:03:10 -0400 (Wed, 24 Sep 2025) EllapsedTime: 169.7 seconds RetCode: 0 Status: OK CheckDir: SomaScan.db.Rcheck Warnings: 0