Package: JASPAR2020 Version: 0.99.8 Command: /home/biocbuild/bbs-3.22-bioc/R/bin/R CMD check --install=check:JASPAR2020.install-out.txt --library=/home/biocbuild/bbs-3.22-bioc/R/site-library --timings JASPAR2020_0.99.8.tar.gz StartedAt: 2025-09-24 05:59:34 -0400 (Wed, 24 Sep 2025) EndedAt: 2025-09-24 06:00:04 -0400 (Wed, 24 Sep 2025) EllapsedTime: 29.7 seconds RetCode: 1 Status: ERROR CheckDir: JASPAR2020.Rcheck Warnings: NA