Package: EpiTxDb.Hs.hg38 Version: 0.99.7 Command: /home/biocbuild/bbs-3.22-bioc/R/bin/R CMD check --install=check:EpiTxDb.Hs.hg38.install-out.txt --library=/home/biocbuild/bbs-3.22-bioc/R/site-library --timings EpiTxDb.Hs.hg38_0.99.7.tar.gz StartedAt: 2025-09-17 06:05:11 -0400 (Wed, 17 Sep 2025) EndedAt: 2025-09-17 06:11:44 -0400 (Wed, 17 Sep 2025) EllapsedTime: 393.5 seconds RetCode: 0 Status: OK CheckDir: EpiTxDb.Hs.hg38.Rcheck Warnings: 0