Package: CTCF Version: 0.99.12 Command: /home/biocbuild/bbs-3.22-bioc/R/bin/R CMD check --install=check:CTCF.install-out.txt --library=/home/biocbuild/bbs-3.22-bioc/R/site-library --timings CTCF_0.99.12.tar.gz StartedAt: 2025-10-29 05:58:44 -0400 (Wed, 29 Oct 2025) EndedAt: 2025-10-29 05:59:47 -0400 (Wed, 29 Oct 2025) EllapsedTime: 62.4 seconds RetCode: 0 Status: OK CheckDir: CTCF.Rcheck Warnings: 0