Package: BioMartGOGeneSets Version: 0.99.11 Command: /home/biocbuild/bbs-3.22-bioc/R/bin/R CMD check --install=check:BioMartGOGeneSets.install-out.txt --library=/home/biocbuild/bbs-3.22-bioc/R/site-library --timings BioMartGOGeneSets_0.99.11.tar.gz StartedAt: 2025-10-08 05:58:56 -0400 (Wed, 08 Oct 2025) EndedAt: 2025-10-08 06:00:56 -0400 (Wed, 08 Oct 2025) EllapsedTime: 119.4 seconds RetCode: 0 Status: OK CheckDir: BioMartGOGeneSets.Rcheck Warnings: 0