Package: AHPathbankDbs Version: 0.99.5 Command: /home/biocbuild/bbs-3.22-bioc/R/bin/R CMD INSTALL AHPathbankDbs StartedAt: 2025-11-19 05:55:15 -0500 (Wed, 19 Nov 2025) EndedAt: 2025-11-19 05:55:24 -0500 (Wed, 19 Nov 2025) EllapsedTime: 9.0 seconds RetCode: 0 Status: OK