Package: AHPathbankDbs Version: 0.99.5 Command: /home/biocbuild/bbs-3.22-bioc/R/bin/R CMD build --keep-empty-dirs --no-resave-data AHPathbankDbs StartedAt: 2025-11-19 05:56:27 -0500 (Wed, 19 Nov 2025) EndedAt: 2025-11-19 05:56:51 -0500 (Wed, 19 Nov 2025) EllapsedTime: 23.7 seconds RetCode: 0 Status: OK PackageFile: AHPathbankDbs_0.99.5.tar.gz PackageFileSize: 292.6 KiB