Package: AHEnsDbs Version: 1.7.0 Command: /home/biocbuild/bbs-3.22-bioc/R/bin/R CMD INSTALL AHEnsDbs StartedAt: 2025-10-01 05:55:25 -0400 (Wed, 01 Oct 2025) EndedAt: 2025-10-01 05:55:50 -0400 (Wed, 01 Oct 2025) EllapsedTime: 24.6 seconds RetCode: 0 Status: OK