Package: AHEnsDbs Version: 1.7.0 Command: /home/biocbuild/bbs-3.22-bioc/R/bin/R CMD build --keep-empty-dirs --no-resave-data AHEnsDbs StartedAt: 2025-10-01 05:56:15 -0400 (Wed, 01 Oct 2025) EndedAt: 2025-10-01 05:57:04 -0400 (Wed, 01 Oct 2025) EllapsedTime: 48.9 seconds RetCode: 0 Status: OK PackageFile: AHEnsDbs_1.7.0.tar.gz PackageFileSize: 502.2 KiB