Package: crisprScore Version: 1.14.0 Maintainer: Jean-Philippe Fortin MaintainerEmail: fortin946 at gmail.com git_url: https://git.bioconductor.org/packages/crisprScore git_branch: RELEASE_3_22 git_last_commit: 86c5f68 git_last_commit_date: 2025-10-29 11:14:23 -0400 (Wed, 29 Oct 2025)