Package: cBioPortalData Version: 2.21.5 Command: /home/biocbuild/bbs-3.22-bioc/R/bin/R CMD check --test-dir=longtests --no-stop-on-test-error --no-codoc --no-examples --no-manual --ignore-vignettes --check-subdirs=no cBioPortalData_2.21.5.tar.gz StartedAt: 2025-10-25 16:03:05 -0400 (Sat, 25 Oct 2025) EndedAt: 2025-10-25 17:03:59 -0400 (Sat, 25 Oct 2025) EllapsedTime: 3653.4 seconds RetCode: 1 Status: ERROR CheckDir: cBioPortalData.Rcheck Warnings: NA