Package: autonomics Version: 1.17.16 Maintainer: Aditya Bhagwat MaintainerEmail: aditya.bhagwat at uni-marburg.de git_url: https://git.bioconductor.org/packages/autonomics git_branch: devel git_last_commit: ca513f9 git_last_commit_date: 2025-10-03 08:57:56 -0400 (Fri, 03 Oct 2025)