Package: SimBu Version: 1.12.0 Command: /home/biocbuild/bbs-3.22-bioc/R/bin/R CMD check --test-dir=longtests --no-stop-on-test-error --no-codoc --no-examples --no-manual --ignore-vignettes --check-subdirs=no SimBu_1.12.0.tar.gz StartedAt: 2025-11-01 16:24:38 -0400 (Sat, 01 Nov 2025) EndedAt: 2025-11-01 16:25:21 -0400 (Sat, 01 Nov 2025) EllapsedTime: 43.0 seconds RetCode: 1 Status: ERROR CheckDir: SimBu.Rcheck Warnings: NA