Package: GenomicFeatures Version: 1.61.6 Command: /home/biocbuild/bbs-3.22-bioc/R/bin/R CMD check --test-dir=longtests --no-stop-on-test-error --no-codoc --no-examples --no-manual --ignore-vignettes --check-subdirs=no GenomicFeatures_1.61.6.tar.gz StartedAt: 2025-10-11 16:17:17 -0400 (Sat, 11 Oct 2025) EndedAt: 2025-10-11 16:20:26 -0400 (Sat, 11 Oct 2025) EllapsedTime: 189.1 seconds RetCode: 0 Status: WARNINGS CheckDir: GenomicFeatures.Rcheck Warnings: 1