Package: APAlyzer Version: 1.24.0 Command: /home/biocbuild/bbs-3.22-bioc/R/bin/R CMD check --test-dir=longtests --no-stop-on-test-error --no-codoc --no-examples --no-manual --ignore-vignettes --check-subdirs=no APAlyzer_1.24.0.tar.gz StartedAt: 2025-11-15 16:01:10 -0500 (Sat, 15 Nov 2025) EndedAt: 2025-11-15 16:05:19 -0500 (Sat, 15 Nov 2025) EllapsedTime: 249.2 seconds RetCode: 1 Status: ERROR CheckDir: APAlyzer.Rcheck Warnings: NA