Package: scviR Version: 1.10.0 Maintainer: Vincent Carey MaintainerEmail: stvjc at channing.harvard.edu git_url: https://git.bioconductor.org/packages/scviR git_branch: RELEASE_3_22 git_last_commit: 76c9278 git_last_commit_date: 2025-10-29 11:21:42 -0400 (Wed, 29 Oct 2025)