Package: orthos Version: 1.7.3 Command: /home/biocbuild/bbs-3.22-bioc-gpu/R/bin/R CMD INSTALL orthos StartedAt: 2025-09-29 07:45:35 -0400 (Mon, 29 Sep 2025) EndedAt: 2025-09-29 07:46:23 -0400 (Mon, 29 Sep 2025) EllapsedTime: 48.2 seconds RetCode: 0 Status: OK