Back to --- experimental! ---
GPU-enabled build/check report for BioC 3.22
Report updated every 6 hours

This page was generated on 2025-11-24 14:30 -0500 (Mon, 24 Nov 2025).

R packages installed on biocgpu


                     LibPath                                                           Version    Built
abind                /media/volume/biocgpu2/biocbuild/bbs-3.22-bioc-gpu/R/site-library 1.4-8      4.5.2
AnnotationDbi        /media/volume/biocgpu2/biocbuild/bbs-3.22-bioc-gpu/R/site-library 1.72.0     4.5.2
AnnotationHub        /media/volume/biocgpu2/biocbuild/bbs-3.22-bioc-gpu/R/site-library 4.0.0      4.5.2
askpass              /media/volume/biocgpu2/biocbuild/bbs-3.22-bioc-gpu/R/site-library 1.2.1      4.5.2
assorthead           /media/volume/biocgpu2/biocbuild/bbs-3.22-bioc-gpu/R/site-library 1.4.0      4.5.2
backports            /media/volume/biocgpu2/biocbuild/bbs-3.22-bioc-gpu/R/site-library 1.5.0      4.5.2
base64enc            /media/volume/biocgpu2/biocbuild/bbs-3.22-bioc-gpu/R/site-library 0.1-3      4.5.2
basilisk             /media/volume/biocgpu2/biocbuild/bbs-3.22-bioc-gpu/R/site-library 1.22.0     4.5.2
beachmat             /media/volume/biocgpu2/biocbuild/bbs-3.22-bioc-gpu/R/site-library 2.26.0     4.5.2
beeswarm             /media/volume/biocgpu2/biocbuild/bbs-3.22-bioc-gpu/R/site-library 0.4.0      4.5.2
BH                   /media/volume/biocgpu2/biocbuild/bbs-3.22-bioc-gpu/R/site-library 1.87.0-1   4.5.2
Biobase              /media/volume/biocgpu2/biocbuild/bbs-3.22-bioc-gpu/R/site-library 2.70.0     4.5.2
BiocBaseUtils        /media/volume/biocgpu2/biocbuild/bbs-3.22-bioc-gpu/R/site-library 1.12.0     4.5.2
BiocCheck            /media/volume/biocgpu2/biocbuild/bbs-3.22-bioc-gpu/R/site-library 1.46.0     4.5.2
BiocFileCache        /media/volume/biocgpu2/biocbuild/bbs-3.22-bioc-gpu/R/site-library 3.0.0      4.5.2
BiocGenerics         /media/volume/biocgpu2/biocbuild/bbs-3.22-bioc-gpu/R/site-library 0.56.0     4.5.2
BiocIO               /media/volume/biocgpu2/biocbuild/bbs-3.22-bioc-gpu/R/site-library 1.20.0     4.5.2
BiocManager          /media/volume/biocgpu2/biocbuild/bbs-3.22-bioc-gpu/R/site-library 1.30.27    4.5.2
BiocNeighbors        /media/volume/biocgpu2/biocbuild/bbs-3.22-bioc-gpu/R/site-library 2.4.0      4.5.2
BiocParallel         /media/volume/biocgpu2/biocbuild/bbs-3.22-bioc-gpu/R/site-library 1.44.0     4.5.2
BiocSingular         /media/volume/biocgpu2/biocbuild/bbs-3.22-bioc-gpu/R/site-library 1.26.1     4.5.2
BiocStyle            /media/volume/biocgpu2/biocbuild/bbs-3.22-bioc-gpu/R/site-library 2.38.0     4.5.2
BiocVersion          /media/volume/biocgpu2/biocbuild/bbs-3.22-bioc-gpu/R/site-library 3.22.0     4.5.2
biocViews            /media/volume/biocgpu2/biocbuild/bbs-3.22-bioc-gpu/R/site-library 1.78.0     4.5.2
Biostrings           /media/volume/biocgpu2/biocbuild/bbs-3.22-bioc-gpu/R/site-library 2.78.0     4.5.2
bit                  /media/volume/biocgpu2/biocbuild/bbs-3.22-bioc-gpu/R/site-library 4.6.0      4.5.2
bit64                /media/volume/biocgpu2/biocbuild/bbs-3.22-bioc-gpu/R/site-library 4.6.0-1    4.5.2
bitops               /media/volume/biocgpu2/biocbuild/bbs-3.22-bioc-gpu/R/site-library 1.0-9      4.5.2
blob                 /media/volume/biocgpu2/biocbuild/bbs-3.22-bioc-gpu/R/site-library 1.2.4      4.5.2
bookdown             /media/volume/biocgpu2/biocbuild/bbs-3.22-bioc-gpu/R/site-library 0.45       4.5.2
brew                 /media/volume/biocgpu2/biocbuild/bbs-3.22-bioc-gpu/R/site-library 1.0-10     4.5.2
brio                 /media/volume/biocgpu2/biocbuild/bbs-3.22-bioc-gpu/R/site-library 1.1.5      4.5.2
broom                /media/volume/biocgpu2/biocbuild/bbs-3.22-bioc-gpu/R/site-library 1.0.10     4.5.2
BSgenome             /media/volume/biocgpu2/biocbuild/bbs-3.22-bioc-gpu/R/site-library 1.78.0     4.5.2
bslib                /media/volume/biocgpu2/biocbuild/bbs-3.22-bioc-gpu/R/site-library 0.9.0      4.5.2
cachem               /media/volume/biocgpu2/biocbuild/bbs-3.22-bioc-gpu/R/site-library 1.1.0      4.5.2
Cairo                /media/volume/biocgpu2/biocbuild/bbs-3.22-bioc-gpu/R/site-library 1.7-0      4.5.2
callr                /media/volume/biocgpu2/biocbuild/bbs-3.22-bioc-gpu/R/site-library 3.7.6      4.5.2
car                  /media/volume/biocgpu2/biocbuild/bbs-3.22-bioc-gpu/R/site-library 3.1-3      4.5.2
carData              /media/volume/biocgpu2/biocbuild/bbs-3.22-bioc-gpu/R/site-library 3.0-5      4.5.2
cigarillo            /media/volume/biocgpu2/biocbuild/bbs-3.22-bioc-gpu/R/site-library 1.0.0      4.5.2
cli                  /media/volume/biocgpu2/biocbuild/bbs-3.22-bioc-gpu/R/site-library 3.6.5      4.5.2
clipr                /media/volume/biocgpu2/biocbuild/bbs-3.22-bioc-gpu/R/site-library 0.8.0      4.5.2
colorspace           /media/volume/biocgpu2/biocbuild/bbs-3.22-bioc-gpu/R/site-library 2.1-2      4.5.2
commonmark           /media/volume/biocgpu2/biocbuild/bbs-3.22-bioc-gpu/R/site-library 2.0.0      4.5.2
config               /media/volume/biocgpu2/biocbuild/bbs-3.22-bioc-gpu/R/site-library 0.3.2      4.5.2
corrplot             /media/volume/biocgpu2/biocbuild/bbs-3.22-bioc-gpu/R/site-library 0.95       4.5.2
cowplot              /media/volume/biocgpu2/biocbuild/bbs-3.22-bioc-gpu/R/site-library 1.2.0      4.5.2
cpp11                /media/volume/biocgpu2/biocbuild/bbs-3.22-bioc-gpu/R/site-library 0.5.2      4.5.2
crayon               /media/volume/biocgpu2/biocbuild/bbs-3.22-bioc-gpu/R/site-library 1.5.3      4.5.2
credentials          /media/volume/biocgpu2/biocbuild/bbs-3.22-bioc-gpu/R/site-library 2.0.3      4.5.2
curl                 /media/volume/biocgpu2/biocbuild/bbs-3.22-bioc-gpu/R/site-library 7.0.0      4.5.2
DBI                  /media/volume/biocgpu2/biocbuild/bbs-3.22-bioc-gpu/R/site-library 1.2.3      4.5.2
dbplyr               /media/volume/biocgpu2/biocbuild/bbs-3.22-bioc-gpu/R/site-library 2.5.1      4.5.2
DelayedArray         /media/volume/biocgpu2/biocbuild/bbs-3.22-bioc-gpu/R/site-library 0.36.0     4.5.2
Deriv                /media/volume/biocgpu2/biocbuild/bbs-3.22-bioc-gpu/R/site-library 4.2.0      4.5.2
desc                 /media/volume/biocgpu2/biocbuild/bbs-3.22-bioc-gpu/R/site-library 1.4.3      4.5.2
devtools             /media/volume/biocgpu2/biocbuild/bbs-3.22-bioc-gpu/R/site-library 2.4.6      4.5.2
diffobj              /media/volume/biocgpu2/biocbuild/bbs-3.22-bioc-gpu/R/site-library 0.3.6      4.5.2
digest               /media/volume/biocgpu2/biocbuild/bbs-3.22-bioc-gpu/R/site-library 0.6.39     4.5.2
dir.expiry           /media/volume/biocgpu2/biocbuild/bbs-3.22-bioc-gpu/R/site-library 1.18.0     4.5.2
doBy                 /media/volume/biocgpu2/biocbuild/bbs-3.22-bioc-gpu/R/site-library 4.7.0      4.5.2
downlit              /media/volume/biocgpu2/biocbuild/bbs-3.22-bioc-gpu/R/site-library 0.4.5      4.5.2
dplyr                /media/volume/biocgpu2/biocbuild/bbs-3.22-bioc-gpu/R/site-library 1.1.4      4.5.2
dqrng                /media/volume/biocgpu2/biocbuild/bbs-3.22-bioc-gpu/R/site-library 0.4.1      4.5.2
ellipsis             /media/volume/biocgpu2/biocbuild/bbs-3.22-bioc-gpu/R/site-library 0.3.2      4.5.2
evaluate             /media/volume/biocgpu2/biocbuild/bbs-3.22-bioc-gpu/R/site-library 1.0.5      4.5.2
ExperimentHub        /media/volume/biocgpu2/biocbuild/bbs-3.22-bioc-gpu/R/site-library 3.0.0      4.5.2
fansi                /media/volume/biocgpu2/biocbuild/bbs-3.22-bioc-gpu/R/site-library 1.0.7      4.5.2
farver               /media/volume/biocgpu2/biocbuild/bbs-3.22-bioc-gpu/R/site-library 2.1.2      4.5.2
fastmap              /media/volume/biocgpu2/biocbuild/bbs-3.22-bioc-gpu/R/site-library 1.2.0      4.5.2
filelock             /media/volume/biocgpu2/biocbuild/bbs-3.22-bioc-gpu/R/site-library 1.0.3      4.5.2
FNN                  /media/volume/biocgpu2/biocbuild/bbs-3.22-bioc-gpu/R/site-library 1.1.4.1    4.5.2
fontawesome          /media/volume/biocgpu2/biocbuild/bbs-3.22-bioc-gpu/R/site-library 0.5.3      4.5.2
formatR              /media/volume/biocgpu2/biocbuild/bbs-3.22-bioc-gpu/R/site-library 1.14       4.5.2
Formula              /media/volume/biocgpu2/biocbuild/bbs-3.22-bioc-gpu/R/site-library 1.2-5      4.5.2
fs                   /media/volume/biocgpu2/biocbuild/bbs-3.22-bioc-gpu/R/site-library 1.6.6      4.5.2
futile.logger        /media/volume/biocgpu2/biocbuild/bbs-3.22-bioc-gpu/R/site-library 1.4.3      4.5.2
futile.options       /media/volume/biocgpu2/biocbuild/bbs-3.22-bioc-gpu/R/site-library 1.0.1      4.5.2
generics             /media/volume/biocgpu2/biocbuild/bbs-3.22-bioc-gpu/R/site-library 0.1.4      4.5.2
GenomicAlignments    /media/volume/biocgpu2/biocbuild/bbs-3.22-bioc-gpu/R/site-library 1.46.0     4.5.2
GenomicFeatures      /media/volume/biocgpu2/biocbuild/bbs-3.22-bioc-gpu/R/site-library 1.62.0     4.5.2
GenomicRanges        /media/volume/biocgpu2/biocbuild/bbs-3.22-bioc-gpu/R/site-library 1.62.0     4.5.2
gert                 /media/volume/biocgpu2/biocbuild/bbs-3.22-bioc-gpu/R/site-library 2.2.0      4.5.2
ggbeeswarm           /media/volume/biocgpu2/biocbuild/bbs-3.22-bioc-gpu/R/site-library 0.7.2      4.5.2
ggplot2              /media/volume/biocgpu2/biocbuild/bbs-3.22-bioc-gpu/R/site-library 4.0.1      4.5.2
ggpubr               /media/volume/biocgpu2/biocbuild/bbs-3.22-bioc-gpu/R/site-library 0.6.2      4.5.2
ggrastr              /media/volume/biocgpu2/biocbuild/bbs-3.22-bioc-gpu/R/site-library 1.0.2      4.5.2
ggrepel              /media/volume/biocgpu2/biocbuild/bbs-3.22-bioc-gpu/R/site-library 0.9.6      4.5.2
ggsci                /media/volume/biocgpu2/biocbuild/bbs-3.22-bioc-gpu/R/site-library 4.1.0      4.5.2
ggsignif             /media/volume/biocgpu2/biocbuild/bbs-3.22-bioc-gpu/R/site-library 0.6.4      4.5.2
gh                   /media/volume/biocgpu2/biocbuild/bbs-3.22-bioc-gpu/R/site-library 1.5.0      4.5.2
gitcreds             /media/volume/biocgpu2/biocbuild/bbs-3.22-bioc-gpu/R/site-library 0.1.2      4.5.2
glue                 /media/volume/biocgpu2/biocbuild/bbs-3.22-bioc-gpu/R/site-library 1.8.0      4.5.2
graph                /media/volume/biocgpu2/biocbuild/bbs-3.22-bioc-gpu/R/site-library 1.88.0     4.5.2
gridExtra            /media/volume/biocgpu2/biocbuild/bbs-3.22-bioc-gpu/R/site-library 2.3        4.5.2
gtable               /media/volume/biocgpu2/biocbuild/bbs-3.22-bioc-gpu/R/site-library 0.3.6      4.5.2
h5mread              /media/volume/biocgpu2/biocbuild/bbs-3.22-bioc-gpu/R/site-library 1.2.0      4.5.2
HDF5Array            /media/volume/biocgpu2/biocbuild/bbs-3.22-bioc-gpu/R/site-library 1.38.0     4.5.2
here                 /media/volume/biocgpu2/biocbuild/bbs-3.22-bioc-gpu/R/site-library 1.0.2      4.5.2
highr                /media/volume/biocgpu2/biocbuild/bbs-3.22-bioc-gpu/R/site-library 0.11       4.5.2
htmltools            /media/volume/biocgpu2/biocbuild/bbs-3.22-bioc-gpu/R/site-library 0.5.8.1    4.5.2
htmlwidgets          /media/volume/biocgpu2/biocbuild/bbs-3.22-bioc-gpu/R/site-library 1.6.4      4.5.2
httpuv               /media/volume/biocgpu2/biocbuild/bbs-3.22-bioc-gpu/R/site-library 1.6.16     4.5.2
httr                 /media/volume/biocgpu2/biocbuild/bbs-3.22-bioc-gpu/R/site-library 1.4.7      4.5.2
httr2                /media/volume/biocgpu2/biocbuild/bbs-3.22-bioc-gpu/R/site-library 1.2.1      4.5.2
ini                  /media/volume/biocgpu2/biocbuild/bbs-3.22-bioc-gpu/R/site-library 0.3.1      4.5.2
IRanges              /media/volume/biocgpu2/biocbuild/bbs-3.22-bioc-gpu/R/site-library 2.44.0     4.5.2
irlba                /media/volume/biocgpu2/biocbuild/bbs-3.22-bioc-gpu/R/site-library 2.3.5.1    4.5.2
isoband              /media/volume/biocgpu2/biocbuild/bbs-3.22-bioc-gpu/R/site-library 0.2.7      4.5.2
jquerylib            /media/volume/biocgpu2/biocbuild/bbs-3.22-bioc-gpu/R/site-library 0.1.4      4.5.2
jsonlite             /media/volume/biocgpu2/biocbuild/bbs-3.22-bioc-gpu/R/site-library 2.0.0      4.5.2
KEGGREST             /media/volume/biocgpu2/biocbuild/bbs-3.22-bioc-gpu/R/site-library 1.50.0     4.5.2
keras                /media/volume/biocgpu2/biocbuild/bbs-3.22-bioc-gpu/R/site-library 2.16.0     4.5.2
knitr                /media/volume/biocgpu2/biocbuild/bbs-3.22-bioc-gpu/R/site-library 1.50       4.5.2
labeling             /media/volume/biocgpu2/biocbuild/bbs-3.22-bioc-gpu/R/site-library 0.4.3      4.5.2
lambda.r             /media/volume/biocgpu2/biocbuild/bbs-3.22-bioc-gpu/R/site-library 1.2.4      4.5.2
later                /media/volume/biocgpu2/biocbuild/bbs-3.22-bioc-gpu/R/site-library 1.4.4      4.5.2
lifecycle            /media/volume/biocgpu2/biocbuild/bbs-3.22-bioc-gpu/R/site-library 1.0.4      4.5.2
limma                /media/volume/biocgpu2/biocbuild/bbs-3.22-bioc-gpu/R/site-library 3.66.0     4.5.2
lme4                 /media/volume/biocgpu2/biocbuild/bbs-3.22-bioc-gpu/R/site-library 1.1-37     4.5.2
magrittr             /media/volume/biocgpu2/biocbuild/bbs-3.22-bioc-gpu/R/site-library 2.0.4      4.5.2
MatrixGenerics       /media/volume/biocgpu2/biocbuild/bbs-3.22-bioc-gpu/R/site-library 1.22.0     4.5.2
MatrixModels         /media/volume/biocgpu2/biocbuild/bbs-3.22-bioc-gpu/R/site-library 0.5-4      4.5.2
matrixStats          /media/volume/biocgpu2/biocbuild/bbs-3.22-bioc-gpu/R/site-library 1.5.0      4.5.2
memoise              /media/volume/biocgpu2/biocbuild/bbs-3.22-bioc-gpu/R/site-library 2.0.1      4.5.2
microbenchmark       /media/volume/biocgpu2/biocbuild/bbs-3.22-bioc-gpu/R/site-library 1.5.0      4.5.2
mime                 /media/volume/biocgpu2/biocbuild/bbs-3.22-bioc-gpu/R/site-library 0.13       4.5.2
miniUI               /media/volume/biocgpu2/biocbuild/bbs-3.22-bioc-gpu/R/site-library 0.1.2      4.5.2
minqa                /media/volume/biocgpu2/biocbuild/bbs-3.22-bioc-gpu/R/site-library 1.2.8      4.5.2
modelr               /media/volume/biocgpu2/biocbuild/bbs-3.22-bioc-gpu/R/site-library 0.1.11     4.5.2
nloptr               /media/volume/biocgpu2/biocbuild/bbs-3.22-bioc-gpu/R/site-library 2.2.1      4.5.2
numDeriv             /media/volume/biocgpu2/biocbuild/bbs-3.22-bioc-gpu/R/site-library 2016.8-1.1 4.5.2
openssl              /media/volume/biocgpu2/biocbuild/bbs-3.22-bioc-gpu/R/site-library 2.3.4      4.5.2
orthos               /media/volume/biocgpu2/biocbuild/bbs-3.22-bioc-gpu/R/site-library 1.8.0      4.5.2
orthosData           /media/volume/biocgpu2/biocbuild/bbs-3.22-bioc-gpu/R/site-library 1.8.0      4.5.2
otel                 /media/volume/biocgpu2/biocbuild/bbs-3.22-bioc-gpu/R/site-library 0.2.0      4.5.2
pbkrtest             /media/volume/biocgpu2/biocbuild/bbs-3.22-bioc-gpu/R/site-library 0.5.5      4.5.2
pheatmap             /media/volume/biocgpu2/biocbuild/bbs-3.22-bioc-gpu/R/site-library 1.0.13     4.5.2
pillar               /media/volume/biocgpu2/biocbuild/bbs-3.22-bioc-gpu/R/site-library 1.11.1     4.5.2
pkgbuild             /media/volume/biocgpu2/biocbuild/bbs-3.22-bioc-gpu/R/site-library 1.4.8      4.5.2
pkgconfig            /media/volume/biocgpu2/biocbuild/bbs-3.22-bioc-gpu/R/site-library 2.0.3      4.5.2
pkgdown              /media/volume/biocgpu2/biocbuild/bbs-3.22-bioc-gpu/R/site-library 2.2.0      4.5.2
pkgload              /media/volume/biocgpu2/biocbuild/bbs-3.22-bioc-gpu/R/site-library 1.4.1      4.5.2
plogr                /media/volume/biocgpu2/biocbuild/bbs-3.22-bioc-gpu/R/site-library 0.2.0      4.5.2
plyr                 /media/volume/biocgpu2/biocbuild/bbs-3.22-bioc-gpu/R/site-library 1.8.9      4.5.2
png                  /media/volume/biocgpu2/biocbuild/bbs-3.22-bioc-gpu/R/site-library 0.1-8      4.5.2
polynom              /media/volume/biocgpu2/biocbuild/bbs-3.22-bioc-gpu/R/site-library 1.4-1      4.5.2
praise               /media/volume/biocgpu2/biocbuild/bbs-3.22-bioc-gpu/R/site-library 1.0.0      4.5.2
prettyunits          /media/volume/biocgpu2/biocbuild/bbs-3.22-bioc-gpu/R/site-library 1.2.0      4.5.2
processx             /media/volume/biocgpu2/biocbuild/bbs-3.22-bioc-gpu/R/site-library 3.8.6      4.5.2
profvis              /media/volume/biocgpu2/biocbuild/bbs-3.22-bioc-gpu/R/site-library 0.4.0      4.5.2
promises             /media/volume/biocgpu2/biocbuild/bbs-3.22-bioc-gpu/R/site-library 1.5.0      4.5.2
ps                   /media/volume/biocgpu2/biocbuild/bbs-3.22-bioc-gpu/R/site-library 1.9.1      4.5.2
purrr                /media/volume/biocgpu2/biocbuild/bbs-3.22-bioc-gpu/R/site-library 1.2.0      4.5.2
quantreg             /media/volume/biocgpu2/biocbuild/bbs-3.22-bioc-gpu/R/site-library 6.1        4.5.2
R6                   /media/volume/biocgpu2/biocbuild/bbs-3.22-bioc-gpu/R/site-library 2.6.1      4.5.2
ragg                 /media/volume/biocgpu2/biocbuild/bbs-3.22-bioc-gpu/R/site-library 1.5.0      4.5.2
rappdirs             /media/volume/biocgpu2/biocbuild/bbs-3.22-bioc-gpu/R/site-library 0.3.3      4.5.2
RBGL                 /media/volume/biocgpu2/biocbuild/bbs-3.22-bioc-gpu/R/site-library 1.86.0     4.5.2
rbibutils            /media/volume/biocgpu2/biocbuild/bbs-3.22-bioc-gpu/R/site-library 2.4        4.5.2
RbowtieCuda          /media/volume/biocgpu2/biocbuild/bbs-3.22-bioc-gpu/R/site-library 1.2.0      4.5.2
rcmdcheck            /media/volume/biocgpu2/biocbuild/bbs-3.22-bioc-gpu/R/site-library 1.4.0      4.5.2
RColorBrewer         /media/volume/biocgpu2/biocbuild/bbs-3.22-bioc-gpu/R/site-library 1.1-3      4.5.2
Rcpp                 /media/volume/biocgpu2/biocbuild/bbs-3.22-bioc-gpu/R/site-library 1.1.0      4.5.2
RcppAnnoy            /media/volume/biocgpu2/biocbuild/bbs-3.22-bioc-gpu/R/site-library 0.0.22     4.5.2
RcppEigen            /media/volume/biocgpu2/biocbuild/bbs-3.22-bioc-gpu/R/site-library 0.3.4.0.2  4.5.2
RcppML               /media/volume/biocgpu2/biocbuild/bbs-3.22-bioc-gpu/R/site-library 0.3.7      4.5.2
RcppProgress         /media/volume/biocgpu2/biocbuild/bbs-3.22-bioc-gpu/R/site-library 0.4.2      4.5.2
RcppTOML             /media/volume/biocgpu2/biocbuild/bbs-3.22-bioc-gpu/R/site-library 0.2.3      4.5.2
RCurl                /media/volume/biocgpu2/biocbuild/bbs-3.22-bioc-gpu/R/site-library 1.98-1.17  4.5.2
Rdpack               /media/volume/biocgpu2/biocbuild/bbs-3.22-bioc-gpu/R/site-library 2.6.4      4.5.2
reformulas           /media/volume/biocgpu2/biocbuild/bbs-3.22-bioc-gpu/R/site-library 0.4.2      4.5.2
remotes              /media/volume/biocgpu2/biocbuild/bbs-3.22-bioc-gpu/R/site-library 2.5.0      4.5.2
reshape2             /media/volume/biocgpu2/biocbuild/bbs-3.22-bioc-gpu/R/site-library 1.4.5      4.5.2
restfulr             /media/volume/biocgpu2/biocbuild/bbs-3.22-bioc-gpu/R/site-library 0.0.16     4.5.2
reticulate           /media/volume/biocgpu2/biocbuild/bbs-3.22-bioc-gpu/R/site-library 1.44.1     4.5.2
rhdf5                /media/volume/biocgpu2/biocbuild/bbs-3.22-bioc-gpu/R/site-library 2.54.0     4.5.2
rhdf5filters         /media/volume/biocgpu2/biocbuild/bbs-3.22-bioc-gpu/R/site-library 1.22.0     4.5.2
Rhdf5lib             /media/volume/biocgpu2/biocbuild/bbs-3.22-bioc-gpu/R/site-library 1.32.0     4.5.2
Rhtslib              /media/volume/biocgpu2/biocbuild/bbs-3.22-bioc-gpu/R/site-library 3.6.0      4.5.2
rJava                /media/volume/biocgpu2/biocbuild/bbs-3.22-bioc-gpu/R/site-library 1.0-11     4.5.2
rjson                /media/volume/biocgpu2/biocbuild/bbs-3.22-bioc-gpu/R/site-library 0.2.23     4.5.2
rlang                /media/volume/biocgpu2/biocbuild/bbs-3.22-bioc-gpu/R/site-library 1.1.6      4.5.2
rmarkdown            /media/volume/biocgpu2/biocbuild/bbs-3.22-bioc-gpu/R/site-library 2.30       4.5.2
roxygen2             /media/volume/biocgpu2/biocbuild/bbs-3.22-bioc-gpu/R/site-library 7.3.3      4.5.2
rprojroot            /media/volume/biocgpu2/biocbuild/bbs-3.22-bioc-gpu/R/site-library 2.1.1      4.5.2
Rsamtools            /media/volume/biocgpu2/biocbuild/bbs-3.22-bioc-gpu/R/site-library 2.26.0     4.5.2
RSpectra             /media/volume/biocgpu2/biocbuild/bbs-3.22-bioc-gpu/R/site-library 0.16-2     4.5.2
RSQLite              /media/volume/biocgpu2/biocbuild/bbs-3.22-bioc-gpu/R/site-library 2.4.4      4.5.2
rstatix              /media/volume/biocgpu2/biocbuild/bbs-3.22-bioc-gpu/R/site-library 0.7.3      4.5.2
rstudioapi           /media/volume/biocgpu2/biocbuild/bbs-3.22-bioc-gpu/R/site-library 0.17.1     4.5.2
rsvd                 /media/volume/biocgpu2/biocbuild/bbs-3.22-bioc-gpu/R/site-library 1.0.5      4.5.2
rtracklayer          /media/volume/biocgpu2/biocbuild/bbs-3.22-bioc-gpu/R/site-library 1.70.0     4.5.2
Rtsne                /media/volume/biocgpu2/biocbuild/bbs-3.22-bioc-gpu/R/site-library 0.17       4.5.2
RUnit                /media/volume/biocgpu2/biocbuild/bbs-3.22-bioc-gpu/R/site-library 0.4.33.1   4.5.2
rversions            /media/volume/biocgpu2/biocbuild/bbs-3.22-bioc-gpu/R/site-library 3.0.0      4.5.2
rvest                /media/volume/biocgpu2/biocbuild/bbs-3.22-bioc-gpu/R/site-library 1.0.5      4.5.2
S4Arrays             /media/volume/biocgpu2/biocbuild/bbs-3.22-bioc-gpu/R/site-library 1.10.0     4.5.2
S4Vectors            /media/volume/biocgpu2/biocbuild/bbs-3.22-bioc-gpu/R/site-library 0.48.0     4.5.2
S7                   /media/volume/biocgpu2/biocbuild/bbs-3.22-bioc-gpu/R/site-library 0.2.1      4.5.2
sass                 /media/volume/biocgpu2/biocbuild/bbs-3.22-bioc-gpu/R/site-library 0.4.10     4.5.2
ScaledMatrix         /media/volume/biocgpu2/biocbuild/bbs-3.22-bioc-gpu/R/site-library 1.18.0     4.5.2
scales               /media/volume/biocgpu2/biocbuild/bbs-3.22-bioc-gpu/R/site-library 1.4.0      4.5.2
scater               /media/volume/biocgpu2/biocbuild/bbs-3.22-bioc-gpu/R/site-library 1.38.0     4.5.2
scuttle              /media/volume/biocgpu2/biocbuild/bbs-3.22-bioc-gpu/R/site-library 1.20.0     4.5.2
scviR                /media/volume/biocgpu2/biocbuild/bbs-3.22-bioc-gpu/R/site-library 1.10.0     4.5.2
selectr              /media/volume/biocgpu2/biocbuild/bbs-3.22-bioc-gpu/R/site-library 0.5-0      4.5.2
Seqinfo              /media/volume/biocgpu2/biocbuild/bbs-3.22-bioc-gpu/R/site-library 1.0.0      4.5.2
sessioninfo          /media/volume/biocgpu2/biocbuild/bbs-3.22-bioc-gpu/R/site-library 1.2.3      4.5.2
shiny                /media/volume/biocgpu2/biocbuild/bbs-3.22-bioc-gpu/R/site-library 1.11.1     4.5.2
SingleCellExperiment /media/volume/biocgpu2/biocbuild/bbs-3.22-bioc-gpu/R/site-library 1.32.0     4.5.2
sitmo                /media/volume/biocgpu2/biocbuild/bbs-3.22-bioc-gpu/R/site-library 2.0.2      4.5.2
snow                 /media/volume/biocgpu2/biocbuild/bbs-3.22-bioc-gpu/R/site-library 0.4-4      4.5.2
sourcetools          /media/volume/biocgpu2/biocbuild/bbs-3.22-bioc-gpu/R/site-library 0.1.7-1    4.5.2
SparseArray          /media/volume/biocgpu2/biocbuild/bbs-3.22-bioc-gpu/R/site-library 1.10.2     4.5.2
SparseM              /media/volume/biocgpu2/biocbuild/bbs-3.22-bioc-gpu/R/site-library 1.84-2     4.5.2
statmod              /media/volume/biocgpu2/biocbuild/bbs-3.22-bioc-gpu/R/site-library 1.5.1      4.5.2
stringdist           /media/volume/biocgpu2/biocbuild/bbs-3.22-bioc-gpu/R/site-library 0.9.15     4.5.2
stringi              /media/volume/biocgpu2/biocbuild/bbs-3.22-bioc-gpu/R/site-library 1.8.7      4.5.2
stringr              /media/volume/biocgpu2/biocbuild/bbs-3.22-bioc-gpu/R/site-library 1.6.0      4.5.2
SummarizedExperiment /media/volume/biocgpu2/biocbuild/bbs-3.22-bioc-gpu/R/site-library 1.40.0     4.5.2
sys                  /media/volume/biocgpu2/biocbuild/bbs-3.22-bioc-gpu/R/site-library 3.4.3      4.5.2
systemfonts          /media/volume/biocgpu2/biocbuild/bbs-3.22-bioc-gpu/R/site-library 1.3.1      4.5.2
tensorflow           /media/volume/biocgpu2/biocbuild/bbs-3.22-bioc-gpu/R/site-library 2.20.0     4.5.2
testthat             /media/volume/biocgpu2/biocbuild/bbs-3.22-bioc-gpu/R/site-library 3.3.0      4.5.2
textshaping          /media/volume/biocgpu2/biocbuild/bbs-3.22-bioc-gpu/R/site-library 1.0.4      4.5.2
tfautograph          /media/volume/biocgpu2/biocbuild/bbs-3.22-bioc-gpu/R/site-library 0.3.2      4.5.2
tfruns               /media/volume/biocgpu2/biocbuild/bbs-3.22-bioc-gpu/R/site-library 1.5.4      4.5.2
tibble               /media/volume/biocgpu2/biocbuild/bbs-3.22-bioc-gpu/R/site-library 3.3.0      4.5.2
tidyr                /media/volume/biocgpu2/biocbuild/bbs-3.22-bioc-gpu/R/site-library 1.3.1      4.5.2
tidyselect           /media/volume/biocgpu2/biocbuild/bbs-3.22-bioc-gpu/R/site-library 1.2.1      4.5.2
tinytex              /media/volume/biocgpu2/biocbuild/bbs-3.22-bioc-gpu/R/site-library 0.58       4.5.2
urlchecker           /media/volume/biocgpu2/biocbuild/bbs-3.22-bioc-gpu/R/site-library 1.0.1      4.5.2
usethis              /media/volume/biocgpu2/biocbuild/bbs-3.22-bioc-gpu/R/site-library 3.2.1      4.5.2
utf8                 /media/volume/biocgpu2/biocbuild/bbs-3.22-bioc-gpu/R/site-library 1.2.6      4.5.2
uwot                 /media/volume/biocgpu2/biocbuild/bbs-3.22-bioc-gpu/R/site-library 0.2.4      4.5.2
VariantAnnotation    /media/volume/biocgpu2/biocbuild/bbs-3.22-bioc-gpu/R/site-library 1.56.0     4.5.2
vctrs                /media/volume/biocgpu2/biocbuild/bbs-3.22-bioc-gpu/R/site-library 0.6.5      4.5.2
vipor                /media/volume/biocgpu2/biocbuild/bbs-3.22-bioc-gpu/R/site-library 0.4.7      4.5.2
viridis              /media/volume/biocgpu2/biocbuild/bbs-3.22-bioc-gpu/R/site-library 0.6.5      4.5.2
viridisLite          /media/volume/biocgpu2/biocbuild/bbs-3.22-bioc-gpu/R/site-library 0.4.2      4.5.2
waldo                /media/volume/biocgpu2/biocbuild/bbs-3.22-bioc-gpu/R/site-library 0.6.2      4.5.2
whisker              /media/volume/biocgpu2/biocbuild/bbs-3.22-bioc-gpu/R/site-library 0.4.1      4.5.2
withr                /media/volume/biocgpu2/biocbuild/bbs-3.22-bioc-gpu/R/site-library 3.0.2      4.5.2
xfun                 /media/volume/biocgpu2/biocbuild/bbs-3.22-bioc-gpu/R/site-library 0.54       4.5.2
XML                  /media/volume/biocgpu2/biocbuild/bbs-3.22-bioc-gpu/R/site-library 3.99-0.20  4.5.2
xml2                 /media/volume/biocgpu2/biocbuild/bbs-3.22-bioc-gpu/R/site-library 1.5.0      4.5.2
xopen                /media/volume/biocgpu2/biocbuild/bbs-3.22-bioc-gpu/R/site-library 1.0.1      4.5.2
xtable               /media/volume/biocgpu2/biocbuild/bbs-3.22-bioc-gpu/R/site-library 1.8-4      4.5.2
XVector              /media/volume/biocgpu2/biocbuild/bbs-3.22-bioc-gpu/R/site-library 0.50.0     4.5.2
yaml                 /media/volume/biocgpu2/biocbuild/bbs-3.22-bioc-gpu/R/site-library 2.3.10     4.5.2
zeallot              /media/volume/biocgpu2/biocbuild/bbs-3.22-bioc-gpu/R/site-library 0.2.0      4.5.2
zip                  /media/volume/biocgpu2/biocbuild/bbs-3.22-bioc-gpu/R/site-library 2.3.3      4.5.2
base                 /media/volume/biocgpu2/biocbuild/bbs-3.22-bioc-gpu/R/library      4.5.2      4.5.2
boot                 /media/volume/biocgpu2/biocbuild/bbs-3.22-bioc-gpu/R/library      1.3-32     4.5.2
class                /media/volume/biocgpu2/biocbuild/bbs-3.22-bioc-gpu/R/library      7.3-23     4.5.2
cluster              /media/volume/biocgpu2/biocbuild/bbs-3.22-bioc-gpu/R/library      2.1.8.1    4.5.2
codetools            /media/volume/biocgpu2/biocbuild/bbs-3.22-bioc-gpu/R/library      0.2-20     4.5.2
compiler             /media/volume/biocgpu2/biocbuild/bbs-3.22-bioc-gpu/R/library      4.5.2      4.5.2
datasets             /media/volume/biocgpu2/biocbuild/bbs-3.22-bioc-gpu/R/library      4.5.2      4.5.2
foreign              /media/volume/biocgpu2/biocbuild/bbs-3.22-bioc-gpu/R/library      0.8-90     4.5.2
graphics             /media/volume/biocgpu2/biocbuild/bbs-3.22-bioc-gpu/R/library      4.5.2      4.5.2
grDevices            /media/volume/biocgpu2/biocbuild/bbs-3.22-bioc-gpu/R/library      4.5.2      4.5.2
grid                 /media/volume/biocgpu2/biocbuild/bbs-3.22-bioc-gpu/R/library      4.5.2      4.5.2
KernSmooth           /media/volume/biocgpu2/biocbuild/bbs-3.22-bioc-gpu/R/library      2.23-26    4.5.2
lattice              /media/volume/biocgpu2/biocbuild/bbs-3.22-bioc-gpu/R/library      0.22-7     4.5.2
MASS                 /media/volume/biocgpu2/biocbuild/bbs-3.22-bioc-gpu/R/library      7.3-65     4.5.2
Matrix               /media/volume/biocgpu2/biocbuild/bbs-3.22-bioc-gpu/R/library      1.7-4      4.5.2
methods              /media/volume/biocgpu2/biocbuild/bbs-3.22-bioc-gpu/R/library      4.5.2      4.5.2
mgcv                 /media/volume/biocgpu2/biocbuild/bbs-3.22-bioc-gpu/R/library      1.9-4      4.5.2
nlme                 /media/volume/biocgpu2/biocbuild/bbs-3.22-bioc-gpu/R/library      3.1-168    4.5.2
nnet                 /media/volume/biocgpu2/biocbuild/bbs-3.22-bioc-gpu/R/library      7.3-20     4.5.2
parallel             /media/volume/biocgpu2/biocbuild/bbs-3.22-bioc-gpu/R/library      4.5.2      4.5.2
rpart                /media/volume/biocgpu2/biocbuild/bbs-3.22-bioc-gpu/R/library      4.1.24     4.5.2
spatial              /media/volume/biocgpu2/biocbuild/bbs-3.22-bioc-gpu/R/library      7.3-18     4.5.2
splines              /media/volume/biocgpu2/biocbuild/bbs-3.22-bioc-gpu/R/library      4.5.2      4.5.2
stats                /media/volume/biocgpu2/biocbuild/bbs-3.22-bioc-gpu/R/library      4.5.2      4.5.2
stats4               /media/volume/biocgpu2/biocbuild/bbs-3.22-bioc-gpu/R/library      4.5.2      4.5.2
survival             /media/volume/biocgpu2/biocbuild/bbs-3.22-bioc-gpu/R/library      3.8-3      4.5.2
tcltk                /media/volume/biocgpu2/biocbuild/bbs-3.22-bioc-gpu/R/library      4.5.2      4.5.2
tools                /media/volume/biocgpu2/biocbuild/bbs-3.22-bioc-gpu/R/library      4.5.2      4.5.2
utils                /media/volume/biocgpu2/biocbuild/bbs-3.22-bioc-gpu/R/library      4.5.2      4.5.2