Package: zitools Version: 1.4.0 Command: /Library/Frameworks/R.framework/Resources/bin/R CMD INSTALL zitools StartedAt: 2025-11-02 15:18:04 -0500 (Sun, 02 Nov 2025) EndedAt: 2025-11-02 15:18:19 -0500 (Sun, 02 Nov 2025) EllapsedTime: 14.4 seconds RetCode: 0 Status: OK