Package: zitools Version: 1.4.0 Command: /Library/Frameworks/R.framework/Resources/bin/R CMD build --keep-empty-dirs --no-resave-data zitools StartedAt: 2025-11-02 18:09:10 -0500 (Sun, 02 Nov 2025) EndedAt: 2025-11-02 18:09:54 -0500 (Sun, 02 Nov 2025) EllapsedTime: 44.1 seconds RetCode: 0 Status: OK PackageFile: zitools_1.4.0.tar.gz PackageFileSize: 251.3 KiB