Package: zitools Version: 1.4.0 Command: rm -rf zitools.buildbin-libdir && mkdir zitools.buildbin-libdir && /Users/biocbuild/BBS/utils/build-universal.sh zitools_1.4.0.tar.gz /Library/Frameworks/R.framework/Resources/bin/R zitools.buildbin-libdir StartedAt: 2025-11-03 23:26:17 -0500 (Mon, 03 Nov 2025) EndedAt: 2025-11-03 23:26:31 -0500 (Mon, 03 Nov 2025) EllapsedTime: 13.9 seconds RetCode: 0 Status: OK PackageFile: zitools_1.4.0.tgz PackageFileSize: 781 KiB