Package: zinbwave Version: 1.31.0 Command: /home/biocbuild/bbs-3.22-bioc/R/bin/R CMD INSTALL zinbwave StartedAt: 2025-10-27 15:31:16 -0400 (Mon, 27 Oct 2025) EndedAt: 2025-10-27 15:31:49 -0400 (Mon, 27 Oct 2025) EllapsedTime: 32.8 seconds RetCode: 0 Status: OK