Package: zenith Version: 1.11.0 Command: /home/biocbuild/bbs-3.22-bioc/R/bin/R CMD INSTALL zenith StartedAt: 2025-10-24 16:10:25 -0400 (Fri, 24 Oct 2025) EndedAt: 2025-10-24 16:10:59 -0400 (Fri, 24 Oct 2025) EllapsedTime: 34.7 seconds RetCode: 0 Status: OK