Package: zFPKM Version: 1.31.0 Command: /home/biocbuild/bbs-3.22-bioc/R/bin/R CMD INSTALL zFPKM StartedAt: 2025-10-24 15:49:26 -0400 (Fri, 24 Oct 2025) EndedAt: 2025-10-24 15:49:49 -0400 (Fri, 24 Oct 2025) EllapsedTime: 23.0 seconds RetCode: 0 Status: OK