Package: zFPKM Version: 1.31.0 Command: /home/biocbuild/bbs-3.22-bioc/R/bin/R CMD build --keep-empty-dirs --no-resave-data --md5 zFPKM StartedAt: 2025-10-24 20:56:08 -0400 (Fri, 24 Oct 2025) EndedAt: 2025-10-24 20:56:54 -0400 (Fri, 24 Oct 2025) EllapsedTime: 46.0 seconds RetCode: 0 Status: OK PackageFile: zFPKM_1.31.0.tar.gz PackageFileSize: 147.7 KiB