Package: yarn Version: 1.36.0 Command: /home/biocbuild/bbs-3.22-bioc/R/bin/R CMD INSTALL yarn StartedAt: 2025-11-06 15:47:29 -0500 (Thu, 06 Nov 2025) EndedAt: 2025-11-06 15:48:23 -0500 (Thu, 06 Nov 2025) EllapsedTime: 54.2 seconds RetCode: 0 Status: OK