Package: xenLite Version: 1.3.0 Command: /home/biocbuild/bbs-3.22-bioc/R/bin/R CMD check --install=check:xenLite.install-out.txt --library=/home/biocbuild/bbs-3.22-bioc/R/site-library --timings xenLite_1.3.0.tar.gz StartedAt: 2025-10-25 05:27:16 -0400 (Sat, 25 Oct 2025) EndedAt: 2025-10-25 05:32:09 -0400 (Sat, 25 Oct 2025) EllapsedTime: 292.7 seconds RetCode: 0 Status: OK CheckDir: xenLite.Rcheck Warnings: 0