Package: xenLite Version: 1.3.0 Command: rm -rf xenLite.buildbin-libdir && mkdir xenLite.buildbin-libdir && /Users/biocbuild/BBS/utils/build-universal.sh xenLite_1.3.0.tar.gz /Library/Frameworks/R.framework/Resources/bin/R xenLite.buildbin-libdir StartedAt: 2025-10-25 02:10:51 -0400 (Sat, 25 Oct 2025) EndedAt: 2025-10-25 02:11:34 -0400 (Sat, 25 Oct 2025) EllapsedTime: 43.3 seconds RetCode: 0 Status: OK PackageFile: xenLite_1.3.0.tgz PackageFileSize: 3.022 MiB