Package: xenLite Version: 1.3.0 Command: /Library/Frameworks/R.framework/Resources/bin/R CMD INSTALL xenLite StartedAt: 2025-10-24 15:17:46 -0400 (Fri, 24 Oct 2025) EndedAt: 2025-10-24 15:17:59 -0400 (Fri, 24 Oct 2025) EllapsedTime: 13.5 seconds RetCode: 0 Status: OK