Package: xcore Version: 1.13.0 Command: /home/biocbuild/bbs-3.22-bioc/R/bin/R CMD INSTALL xcore StartedAt: 2025-10-24 15:30:59 -0400 (Fri, 24 Oct 2025) EndedAt: 2025-10-24 15:31:22 -0400 (Fri, 24 Oct 2025) EllapsedTime: 23.0 seconds RetCode: 0 Status: OK