Package: xcore Version: 1.14.0 Command: /Library/Frameworks/R.framework/Resources/bin/R CMD INSTALL xcore StartedAt: 2025-10-31 15:29:24 -0400 (Fri, 31 Oct 2025) EndedAt: 2025-10-31 15:29:56 -0400 (Fri, 31 Oct 2025) EllapsedTime: 32.2 seconds RetCode: 0 Status: OK