Package: xcore Version: 1.14.0 Command: /Library/Frameworks/R.framework/Resources/bin/R CMD build --keep-empty-dirs --no-resave-data xcore StartedAt: 2025-10-31 19:17:14 -0400 (Fri, 31 Oct 2025) EndedAt: 2025-10-31 19:18:49 -0400 (Fri, 31 Oct 2025) EllapsedTime: 94.8 seconds RetCode: 0 Status: OK PackageFile: xcore_1.14.0.tar.gz PackageFileSize: 2.407 MiB