Package: xcore Version: 1.13.0 Command: /Library/Frameworks/R.framework/Resources/bin/R CMD INSTALL xcore StartedAt: 2025-10-24 15:15:48 -0400 (Fri, 24 Oct 2025) EndedAt: 2025-10-24 15:15:58 -0400 (Fri, 24 Oct 2025) EllapsedTime: 9.8 seconds RetCode: 0 Status: OK