Package: xcore Version: 1.13.0 Command: /Library/Frameworks/R.framework/Resources/bin/R CMD build --keep-empty-dirs --no-resave-data xcore StartedAt: 2025-10-24 18:08:14 -0400 (Fri, 24 Oct 2025) EndedAt: 2025-10-24 18:08:51 -0400 (Fri, 24 Oct 2025) EllapsedTime: 36.4 seconds RetCode: 0 Status: OK PackageFile: xcore_1.13.0.tar.gz PackageFileSize: 2.407 MiB