Package: xcms Version: 4.7.3 Command: /home/biocbuild/R/R/bin/R CMD INSTALL xcms StartedAt: 2025-10-23 21:08:53 -0000 (Thu, 23 Oct 2025) EndedAt: 2025-10-23 21:11:09 -0000 (Thu, 23 Oct 2025) EllapsedTime: 136.5 seconds RetCode: 0 Status: OK