Package: xcms Version: 4.7.3 Command: /home/biocbuild/R/R/bin/R CMD build --keep-empty-dirs --no-resave-data xcms StartedAt: 2025-10-21 04:06:14 -0000 (Tue, 21 Oct 2025) EndedAt: 2025-10-21 04:13:09 -0000 (Tue, 21 Oct 2025) EllapsedTime: 414.7 seconds RetCode: 0 Status: OK PackageFile: xcms_4.7.3.tar.gz PackageFileSize: 5.662 MiB