Package: xcms Version: 4.7.3 Command: /home/biocbuild/bbs-3.22-bioc/R/bin/R CMD INSTALL xcms StartedAt: 2025-10-24 15:48:12 -0400 (Fri, 24 Oct 2025) EndedAt: 2025-10-24 15:49:49 -0400 (Fri, 24 Oct 2025) EllapsedTime: 97.7 seconds RetCode: 0 Status: OK