Package: xcms Version: 4.7.3 Command: /home/biocbuild/bbs-3.22-bioc/R/bin/R CMD build --keep-empty-dirs --no-resave-data --md5 xcms StartedAt: 2025-10-24 20:54:51 -0400 (Fri, 24 Oct 2025) EndedAt: 2025-10-24 20:59:20 -0400 (Fri, 24 Oct 2025) EllapsedTime: 269.2 seconds RetCode: 0 Status: OK PackageFile: xcms_4.7.3.tar.gz PackageFileSize: 9.149 MiB