Package: xcms Version: 4.7.3 Command: /Library/Frameworks/R.framework/Resources/bin/R CMD INSTALL xcms StartedAt: 2025-10-24 15:46:49 -0400 (Fri, 24 Oct 2025) EndedAt: 2025-10-24 15:49:06 -0400 (Fri, 24 Oct 2025) EllapsedTime: 136.8 seconds RetCode: 0 Status: OK