Package: xcms Version: 4.7.3 Command: rm -rf xcms.buildbin-libdir && mkdir xcms.buildbin-libdir && /Users/biocbuild/BBS/utils/build-universal.sh xcms_4.7.3.tar.gz /Library/Frameworks/R.framework/Resources/bin/R xcms.buildbin-libdir StartedAt: 2025-10-25 02:10:47 -0400 (Sat, 25 Oct 2025) EndedAt: 2025-10-25 02:12:21 -0400 (Sat, 25 Oct 2025) EllapsedTime: 93.8 seconds RetCode: 0 Status: OK PackageFile: xcms_4.7.3.tgz PackageFileSize: 11.83 MiB