Package: xcms Version: 4.7.3 Command: /Library/Frameworks/R.framework/Resources/bin/R CMD INSTALL xcms StartedAt: 2025-10-24 15:25:21 -0400 (Fri, 24 Oct 2025) EndedAt: 2025-10-24 15:25:58 -0400 (Fri, 24 Oct 2025) EllapsedTime: 37.1 seconds RetCode: 0 Status: OK