Package: xcms Version: 4.7.3 Command: /Library/Frameworks/R.framework/Resources/bin/R CMD build --keep-empty-dirs --no-resave-data xcms StartedAt: 2025-10-24 18:08:02 -0400 (Fri, 24 Oct 2025) EndedAt: 2025-10-24 18:09:54 -0400 (Fri, 24 Oct 2025) EllapsedTime: 112.0 seconds RetCode: 0 Status: OK PackageFile: xcms_4.7.3.tar.gz PackageFileSize: 8.912 MiB