Package: xcms Version: 4.7.3 Command: rm -rf xcms.buildbin-libdir && mkdir xcms.buildbin-libdir && /Users/biocbuild/BBS/utils/build-universal.sh xcms_4.7.3.tar.gz /Library/Frameworks/R.framework/Resources/bin/R xcms.buildbin-libdir StartedAt: 2025-10-24 23:24:13 -0400 (Fri, 24 Oct 2025) EndedAt: 2025-10-24 23:24:50 -0400 (Fri, 24 Oct 2025) EllapsedTime: 36.8 seconds RetCode: 0 Status: OK PackageFile: xcms_4.7.3.tgz PackageFileSize: 11.85 MiB