Package: xCell2 Version: 1.1.0 Command: /Library/Frameworks/R.framework/Resources/bin/R CMD INSTALL xCell2 StartedAt: 2025-10-24 15:16:25 -0400 (Fri, 24 Oct 2025) EndedAt: 2025-10-24 15:16:42 -0400 (Fri, 24 Oct 2025) EllapsedTime: 16.5 seconds RetCode: 0 Status: OK