Package: xCell2 Version: 1.1.0 Command: rm -rf xCell2.buildbin-libdir && mkdir xCell2.buildbin-libdir && /Users/biocbuild/BBS/utils/build-universal.sh xCell2_1.1.0.tar.gz /Library/Frameworks/R.framework/Resources/bin/R xCell2.buildbin-libdir StartedAt: 2025-10-24 23:24:13 -0400 (Fri, 24 Oct 2025) EndedAt: 2025-10-24 23:24:29 -0400 (Fri, 24 Oct 2025) EllapsedTime: 15.9 seconds RetCode: 0 Status: OK PackageFile: xCell2_1.1.0.tgz PackageFileSize: 3.168 MiB