Package: wpm Version: 1.19.0 Command: /home/biocbuild/bbs-3.22-bioc/R/bin/R CMD INSTALL wpm StartedAt: 2025-10-24 15:31:29 -0400 (Fri, 24 Oct 2025) EndedAt: 2025-10-24 15:31:32 -0400 (Fri, 24 Oct 2025) EllapsedTime: 3.2 seconds RetCode: 0 Status: OK