Package: wpm Version: 1.19.0 Command: /home/biocbuild/bbs-3.22-bioc/R/bin/R CMD build --keep-empty-dirs --no-resave-data --md5 wpm StartedAt: 2025-10-24 20:54:25 -0400 (Fri, 24 Oct 2025) EndedAt: 2025-10-24 20:54:46 -0400 (Fri, 24 Oct 2025) EllapsedTime: 21.0 seconds RetCode: 0 Status: OK PackageFile: wpm_1.19.0.tar.gz PackageFileSize: 2.419 MiB